BEGIN:VCALENDAR
VERSION:2.0
PRODID:-//Commune de Saint-Julien-de-Coppel - ECPv6.15.20//NONSGML v1.0//EN
CALSCALE:GREGORIAN
METHOD:PUBLISH
X-WR-CALNAME:Commune de Saint-Julien-de-Coppel
X-ORIGINAL-URL:https://www.saintjuliendecoppel.fr
X-WR-CALDESC:Évènements pour Commune de Saint-Julien-de-Coppel
REFRESH-INTERVAL;VALUE=DURATION:PT1H
X-Robots-Tag:noindex
X-PUBLISHED-TTL:PT1H
BEGIN:VTIMEZONE
TZID:Europe/Paris
BEGIN:DAYLIGHT
TZOFFSETFROM:+0100
TZOFFSETTO:+0200
TZNAME:CEST
DTSTART:20230326T010000
END:DAYLIGHT
BEGIN:STANDARD
TZOFFSETFROM:+0200
TZOFFSETTO:+0100
TZNAME:CET
DTSTART:20231029T010000
END:STANDARD
BEGIN:DAYLIGHT
TZOFFSETFROM:+0100
TZOFFSETTO:+0200
TZNAME:CEST
DTSTART:20240331T010000
END:DAYLIGHT
BEGIN:STANDARD
TZOFFSETFROM:+0200
TZOFFSETTO:+0100
TZNAME:CET
DTSTART:20241027T010000
END:STANDARD
BEGIN:DAYLIGHT
TZOFFSETFROM:+0100
TZOFFSETTO:+0200
TZNAME:CEST
DTSTART:20250330T010000
END:DAYLIGHT
BEGIN:STANDARD
TZOFFSETFROM:+0200
TZOFFSETTO:+0100
TZNAME:CET
DTSTART:20251026T010000
END:STANDARD
END:VTIMEZONE
BEGIN:VEVENT
DTSTART;TZID=Europe/Paris:20240912T080000
DTEND;TZID=Europe/Paris:20240912T170000
DTSTAMP:20260420T041731
CREATED:20240905T075921Z
LAST-MODIFIED:20240905T075921Z
UID:28895-1726128000-1726160400@www.saintjuliendecoppel.fr
SUMMARY:Reprise des cours de gym volontaire
DESCRIPTION:Les cours reprennent le jeudi 12 septembre à la salle des fêtes : \n\n1er groupe de 9h à 10h30\n2ème groupe de 10h30 à 11h30.\n\nLes nouveaux participants ont droit à deux séances gratuites. \nPour plus de renseignements : 06 30 92 12 94 / 06 99 57 99 91
URL:https://www.saintjuliendecoppel.fr/event/reprise-des-cours-de-gym-volontaire/
LOCATION:Salle des fêtes\, Saint-Julien-de-Coppel\, 63160\, France
END:VEVENT
END:VCALENDAR