BEGIN:VCALENDAR
VERSION:2.0
PRODID:-//Commune de Saint-Julien-de-Coppel - ECPv6.15.20//NONSGML v1.0//EN
CALSCALE:GREGORIAN
METHOD:PUBLISH
X-WR-CALNAME:Commune de Saint-Julien-de-Coppel
X-ORIGINAL-URL:https://www.saintjuliendecoppel.fr
X-WR-CALDESC:Évènements pour Commune de Saint-Julien-de-Coppel
REFRESH-INTERVAL;VALUE=DURATION:PT1H
X-Robots-Tag:noindex
X-PUBLISHED-TTL:PT1H
BEGIN:VTIMEZONE
TZID:Europe/Paris
BEGIN:DAYLIGHT
TZOFFSETFROM:+0100
TZOFFSETTO:+0200
TZNAME:CEST
DTSTART:20230326T010000
END:DAYLIGHT
BEGIN:STANDARD
TZOFFSETFROM:+0200
TZOFFSETTO:+0100
TZNAME:CET
DTSTART:20231029T010000
END:STANDARD
BEGIN:DAYLIGHT
TZOFFSETFROM:+0100
TZOFFSETTO:+0200
TZNAME:CEST
DTSTART:20240331T010000
END:DAYLIGHT
BEGIN:STANDARD
TZOFFSETFROM:+0200
TZOFFSETTO:+0100
TZNAME:CET
DTSTART:20241027T010000
END:STANDARD
BEGIN:DAYLIGHT
TZOFFSETFROM:+0100
TZOFFSETTO:+0200
TZNAME:CEST
DTSTART:20250330T010000
END:DAYLIGHT
BEGIN:STANDARD
TZOFFSETFROM:+0200
TZOFFSETTO:+0100
TZNAME:CET
DTSTART:20251026T010000
END:STANDARD
END:VTIMEZONE
BEGIN:VEVENT
DTSTART;TZID=Europe/Paris:20240921T080000
DTEND;TZID=Europe/Paris:20241219T170000
DTSTAMP:20260420T025923
CREATED:20240924T072153Z
LAST-MODIFIED:20241007T101816Z
UID:29148-1726905600-1734627600@www.saintjuliendecoppel.fr
SUMMARY:Du 21/09 au 19/12 exposition inédite sur l'histoire du circuit de Charade
DESCRIPTION:Animations et ateliers gratuits ouverts à tous sur inscription au 04 73 23 45 80 (nombre d’inscrits limité\, variable selon les animations) \nPour plus d’information sur les évènement cliquez ici
URL:https://www.saintjuliendecoppel.fr/event/du-21-09-au-16-09-exposition-inedite-sur-lhistoire-du-circuit-de-charade/
LOCATION:Archives départementales du Puy-de-Dôme\, 75 rue de Neyrat\, CLERMONT FERRAND\, 63100\, France
END:VEVENT
BEGIN:VEVENT
DTSTART;TZID=Europe/Paris:20241016T080000
DTEND;TZID=Europe/Paris:20241016T170000
DTSTAMP:20260420T025923
CREATED:20241016T085317Z
LAST-MODIFIED:20241016T085321Z
UID:29343-1729065600-1729098000@www.saintjuliendecoppel.fr
SUMMARY:29/10 au 30/11 Cultivons le numérique !
DESCRIPTION:Nouveau festival « Connexions\, Cultivons le numérique !  » 2024. \nCe festival regroupera plus de 130 évènements en direction de tous les publics\, dans les sites départementaux et dans les territoires\, en collaboration avec les communes\, les intercommunalités et associations. \nDe la formation sur les enjeux du numérique dans les politiques culturelles\, au tournoi de jeux vidéo\, en passant par les ateliers de gestion des écrans en famille\, les expositions d’art vidéo et ateliers sur les fake news\, les spectacles numériques\, atelier de paléographie en ligne …Il y en aura pour tous les goûts et toutes les curiosités ! \n>>>voir l’affiche
URL:https://www.saintjuliendecoppel.fr/event/29-10-au-30-11-cultivons-le-numerique/
END:VEVENT
END:VCALENDAR