BEGIN:VCALENDAR
VERSION:2.0
PRODID:-//Commune de Saint-Julien-de-Coppel - ECPv6.15.20//NONSGML v1.0//EN
CALSCALE:GREGORIAN
METHOD:PUBLISH
X-ORIGINAL-URL:https://www.saintjuliendecoppel.fr
X-WR-CALDESC:Évènements pour Commune de Saint-Julien-de-Coppel
REFRESH-INTERVAL;VALUE=DURATION:PT1H
X-Robots-Tag:noindex
X-PUBLISHED-TTL:PT1H
BEGIN:VTIMEZONE
TZID:Europe/Paris
BEGIN:DAYLIGHT
TZOFFSETFROM:+0100
TZOFFSETTO:+0200
TZNAME:CEST
DTSTART:20240331T010000
END:DAYLIGHT
BEGIN:STANDARD
TZOFFSETFROM:+0200
TZOFFSETTO:+0100
TZNAME:CET
DTSTART:20241027T010000
END:STANDARD
BEGIN:DAYLIGHT
TZOFFSETFROM:+0100
TZOFFSETTO:+0200
TZNAME:CEST
DTSTART:20250330T010000
END:DAYLIGHT
BEGIN:STANDARD
TZOFFSETFROM:+0200
TZOFFSETTO:+0100
TZNAME:CET
DTSTART:20251026T010000
END:STANDARD
BEGIN:DAYLIGHT
TZOFFSETFROM:+0100
TZOFFSETTO:+0200
TZNAME:CEST
DTSTART:20260329T010000
END:DAYLIGHT
BEGIN:STANDARD
TZOFFSETFROM:+0200
TZOFFSETTO:+0100
TZNAME:CET
DTSTART:20261025T010000
END:STANDARD
END:VTIMEZONE
BEGIN:VEVENT
DTSTART;TZID=Europe/Paris:20250224T080000
DTEND;TZID=Europe/Paris:20250224T170000
DTSTAMP:20260419T191144
CREATED:20250224T125346Z
LAST-MODIFIED:20250224T125533Z
UID:29807-1740384000-1740416400@www.saintjuliendecoppel.fr
SUMMARY:09/03 Billom battle break à Montmorin
DESCRIPTION:Le crew Dark Army est heureux de vous annoncer l’organisation de son second Battle de Breakdance\, le dimanche 9 mars à 14h\, à la salle des fêtes de Montmorin. Cet événement dynamique est ouvert à tous les danseurs à partir de 6 ans et promet un spectacle riche en énergie et en partage.
URL:https://www.saintjuliendecoppel.fr/event/09-03-billom-battle-break-a-montmorin/
END:VEVENT
END:VCALENDAR