BEGIN:VCALENDAR
VERSION:2.0
PRODID:-//Commune de Saint-Julien-de-Coppel - ECPv6.15.20//NONSGML v1.0//EN
CALSCALE:GREGORIAN
METHOD:PUBLISH
X-ORIGINAL-URL:https://www.saintjuliendecoppel.fr
X-WR-CALDESC:Évènements pour Commune de Saint-Julien-de-Coppel
REFRESH-INTERVAL;VALUE=DURATION:PT1H
X-Robots-Tag:noindex
X-PUBLISHED-TTL:PT1H
BEGIN:VTIMEZONE
TZID:Europe/Paris
BEGIN:DAYLIGHT
TZOFFSETFROM:+0100
TZOFFSETTO:+0200
TZNAME:CEST
DTSTART:20240331T010000
END:DAYLIGHT
BEGIN:STANDARD
TZOFFSETFROM:+0200
TZOFFSETTO:+0100
TZNAME:CET
DTSTART:20241027T010000
END:STANDARD
BEGIN:DAYLIGHT
TZOFFSETFROM:+0100
TZOFFSETTO:+0200
TZNAME:CEST
DTSTART:20250330T010000
END:DAYLIGHT
BEGIN:STANDARD
TZOFFSETFROM:+0200
TZOFFSETTO:+0100
TZNAME:CET
DTSTART:20251026T010000
END:STANDARD
BEGIN:DAYLIGHT
TZOFFSETFROM:+0100
TZOFFSETTO:+0200
TZNAME:CEST
DTSTART:20260329T010000
END:DAYLIGHT
BEGIN:STANDARD
TZOFFSETFROM:+0200
TZOFFSETTO:+0100
TZNAME:CET
DTSTART:20261025T010000
END:STANDARD
END:VTIMEZONE
BEGIN:VEVENT
DTSTART;TZID=Europe/Paris:20250414T080000
DTEND;TZID=Europe/Paris:20250418T170000
DTSTAMP:20260419T153541
CREATED:20250410T182830Z
LAST-MODIFIED:20250410T182830Z
UID:29935-1744617600-1744995600@www.saintjuliendecoppel.fr
SUMMARY:Du 14 au 18 avril : Semaine Musical à Chauriat
DESCRIPTION:Rendez vous de la semaine musicale de l‘école de musique de Billom Communauté qui aura lieu du 14 au 18 avril à Chauriat.
URL:https://www.saintjuliendecoppel.fr/event/du-14-au-18-avril-semaine-musical-a-chauriat/
LOCATION:Chauriat\, France
END:VEVENT
BEGIN:VEVENT
DTSTART;TZID=Europe/Paris:20250419T080000
DTEND;TZID=Europe/Paris:20250419T170000
DTSTAMP:20260419T153541
CREATED:20250410T180000Z
LAST-MODIFIED:20250410T180021Z
UID:29922-1745049600-1745082000@www.saintjuliendecoppel.fr
SUMMARY:19/04 6ème Occas'Bécanes organisé par les Casques Coppellois
DESCRIPTION:Le 19 avril aura lieu la 6ème Occas’Bécanes à Saint-Julien-de-Coppel : une bourse de pièces détachées et d’articles autour du 2 Roues est organisée à cette occasion. \nUne très belle exposition sera mise en place. \nRestauration servie à la salle des fêtes ou « rapide » en extérieur. \nNous vous attendons nombreux.
URL:https://www.saintjuliendecoppel.fr/event/19-04-6eme-occasbecanes-organise-par-les-casques-coppellois/
LOCATION:st julien de coppel\, St-Julien-de-Coppel\, France
END:VEVENT
BEGIN:VEVENT
DTSTART;TZID=Europe/Paris:20250428T080000
DTEND;TZID=Europe/Paris:20250508T170000
DTSTAMP:20260419T153541
CREATED:20250428T150325Z
LAST-MODIFIED:20250428T150325Z
UID:29971-1745827200-1746723600@www.saintjuliendecoppel.fr
SUMMARY:Vide grenier à Saint-Julien-de-Coppel
DESCRIPTION:
URL:https://www.saintjuliendecoppel.fr/event/vide-grenier-a-saint-julien-de-coppel/
END:VEVENT
END:VCALENDAR